BEGIN:VCALENDAR
VERSION:2.0
PRODID:-//RGS Surrey Hills - ECPv6.15.20//NONSGML v1.0//EN
CALSCALE:GREGORIAN
METHOD:PUBLISH
X-WR-CALNAME:RGS Surrey Hills
X-ORIGINAL-URL:https://rgs-surreyhills.org
X-WR-CALDESC:Events for RGS Surrey Hills
REFRESH-INTERVAL;VALUE=DURATION:PT1H
X-Robots-Tag:noindex
X-PUBLISHED-TTL:PT1H
BEGIN:VTIMEZONE
TZID:UTC
BEGIN:STANDARD
TZOFFSETFROM:+0000
TZOFFSETTO:+0000
TZNAME:UTC
DTSTART:20230101T000000
END:STANDARD
END:VTIMEZONE
BEGIN:VEVENT
DTSTART;VALUE=DATE:20240205
DTEND;VALUE=DATE:20240206
DTSTAMP:20260422T132357
CREATED:20240124T151808Z
LAST-MODIFIED:20240204T163337Z
UID:10000782-1707091200-1707177599@rgs-surreyhills.org
SUMMARY:Box Hill Walk and Flag Service - whole school
DESCRIPTION:
URL:https://rgs-surreyhills.org/event/box-hill-walk-and-flag-service-whole-school/
LOCATION:Box Hill and Mickleham Church
CATEGORIES:Events
END:VEVENT
END:VCALENDAR